BEGIN:VCALENDAR
VERSION:2.0
PRODID:-//eventon.com NONSGML v1.0//EN
CALSCALE:GREGORIAN
METHOD:PUBLISH
BEGIN:VEVENT
UID:69e688e944385
DTSTAMP:20260420T201329Z
DTSTART:20250403T213000Z
DTEND:20250403T233000Z
LOCATION:Zurich Offices 300 S Riverside Plaza\,  20th Floor
SUMMARY:Connections Mentor Program
DESCRIPTION:Midpoint Check-In A key milestone in the mentor-mentee journey\
 ,  this midpoint check-in provides an opportunity to reflect on progress\, 
  exchange insights\,  and strengthen connections within the program. Partic
 ipants will engage in discussions about career growth and personal developm
 ent.\nhttps://chicago.naaia.org/events/connections-mentor-program/
URL:https://chicago.naaia.org/events/connections-mentor-program/
END:VEVENT
END:VCALENDAR